BEGIN:VCALENDAR
VERSION:2.0
PRODID:-//American Society on Aging - ECPv6.15.14//NONSGML v1.0//EN
CALSCALE:GREGORIAN
METHOD:PUBLISH
X-WR-CALNAME:American Society on Aging
X-ORIGINAL-URL:https://asaging.org
X-WR-CALDESC:Events for American Society on Aging
REFRESH-INTERVAL;VALUE=DURATION:PT1H
X-Robots-Tag:noindex
X-PUBLISHED-TTL:PT1H
BEGIN:VTIMEZONE
TZID:America/Los_Angeles
BEGIN:DAYLIGHT
TZOFFSETFROM:-0800
TZOFFSETTO:-0700
TZNAME:PDT
DTSTART:20240310T100000
END:DAYLIGHT
BEGIN:STANDARD
TZOFFSETFROM:-0700
TZOFFSETTO:-0800
TZNAME:PST
DTSTART:20241103T090000
END:STANDARD
BEGIN:DAYLIGHT
TZOFFSETFROM:-0800
TZOFFSETTO:-0700
TZNAME:PDT
DTSTART:20250309T100000
END:DAYLIGHT
BEGIN:STANDARD
TZOFFSETFROM:-0700
TZOFFSETTO:-0800
TZNAME:PST
DTSTART:20251102T090000
END:STANDARD
BEGIN:DAYLIGHT
TZOFFSETFROM:-0800
TZOFFSETTO:-0700
TZNAME:PDT
DTSTART:20260308T100000
END:DAYLIGHT
BEGIN:STANDARD
TZOFFSETFROM:-0700
TZOFFSETTO:-0800
TZNAME:PST
DTSTART:20261101T090000
END:STANDARD
END:VTIMEZONE
BEGIN:VEVENT
DTSTART;TZID=America/Los_Angeles:20251112T100000
DTEND;TZID=America/Los_Angeles:20251112T110000
DTSTAMP:20260422T151255
CREATED:20250603T213914Z
LAST-MODIFIED:20250703T173947Z
UID:6110-1762941600-1762945200@asaging.org
SUMMARY:Making the Most of your ASA Membership
DESCRIPTION:Date:\nWednesday\, November 12\, 2025 \nStart time: 10 AM Pacific | 1 PM Eastern\nEnd time: 11 AM Pacific | 2 PM Eastern \nRegister Now \nJoin us to meet ASA’s Membership Team and learn how to take full advantage of ASA Membership Benefits! \n\nBecome an expert in leveraging the ASA Communities Platform as a valuable networking tool\nGain more knowledge about our upcoming On Aging 2025 annual conference\nDiscover which upcoming On Aging Institute events best complement your work\nBetter understand which ASA resources and publications can benefit you!\n\n…and more! We would also love the opportunity to connect with you and answer any questions you may have about your membership with ASA. Register now!
URL:https://asaging.org/event/making-the-most-of-your-asa-membership-3/
CATEGORIES:Members Only Event
ATTACH;FMTTYPE=image/png:https://asaging.org/wp-content/uploads/2025/06/Members-Only.png
END:VEVENT
END:VCALENDAR